<?xml version="1.0" encoding="ISO-8859-1"?>
<!DOCTYPE metadata SYSTEM "http://www.fgdc.gov/metadata/fgdc-std-001-1998.dtd">
<metadata>
	<idinfo>
		<citation>
			<citeinfo>
				<origin>U.S. Department of Agriculture,
Natural Resources Conservation Service</origin>
				<pubdate>20030624</pubdate>
				<title>Orthophoto Mosaic for Hardy County, WV</title>
				<geoform>remote-sensing image</geoform>
				<onlink>\\CHMILLER\CHMILLER\mrsids\wv_hardy_mos.sid</onlink>
			</citeinfo>
		</citation>
		<descript>
			<abstract>Orthophotos combine the image characteristics of a photograph with the geometric qualities of a map.  The primary digital orthophotoquad (DOQ) is a 1-meter ground resolution, quarter-quadrangle (3.75-minute of latitude and 3.75-minute of longitude) image cast on the Universal Transverse Mercator Projection (UTM) on the North American Datum of 1983 (NAD83).  The normal orientation data is by lines (rows) and samples (columns).  Each contains a series of pixels ordered from west to with the order of the lines from north to south.  The radiometric image values are stored as 256 gray levels ranging 0 to 255.</abstract>
			<purpose>Digital orthophotos serve a variety of purposes, from interim maps to references for earth science investigations and.  The images are useful as a layer of a geographic information system and as a tool for revision of digital graphs and topographic maps.

These data are prepared for use by the Natural Resources Conservation Service for USDA Service
Center personnel to administer agency programs.</purpose>
		</descript>
		<timeperd>
			<timeinfo>
				<rngdates>
					<begdate>199604</begdate><enddate>199704</enddate></rngdates>
			</timeinfo>
			<current>ground condition</current>
		</timeperd>
		<status>
			<progress>Complete</progress>
			<update>As needed</update>
		</status>
		<spdom>
			<bounding>
				<westbc>
-79.256647</westbc>
				<eastbc>
-78.482841</eastbc>
				<northbc>
39.266461</northbc>
				<southbc>
38.733639</southbc>
			</bounding>
		</spdom>
		<keywords>
			<theme>
				<themekt>None</themekt>
				<themekey>digital orthophoto</themekey>
				<themekey>digital image map</themekey>
				<themekey>aerial photograph</themekey>
				<themekey>rectified photograph</themekey>
				<themekey>rectified image</themekey>
				<themekey>orthophoto</themekey>
				<themekey>DOQ</themekey>
				<themekey>DOQQ</themekey>
			</theme>
			<place>
				<placekt>Counties and County Equivalents of the States of the United States and the District of Columbia (FIPS Pub 6-3)</placekt>
				<placekey>Hardy County</placekey>
				<placekey>West Virginia</placekey>
				<placekey>United States</placekey>
			</place>
		</keywords>
		<accconst>None.</accconst>
		<useconst>These data were prepared for Official Use Only
by USDA employees as part of the Service Center
Initiative.</useconst>
		<ptcontac>
			<cntinfo>
				<cntorgp>
					<cntorg>U.S. Department of Agriculture, Natural Resources Conservation Service</cntorg>
					<cntper>Geospatial Data Branch</cntper>
				</cntorgp>
				<cntaddr>
					<addrtype>mailing and physical address</addrtype>
					<address>Federal Center, 501 W. Felix St., Bldg 23, P.O Box 6567</address>
					<city>Fort Worth</city>
					<state>Texas</state>
					<postal>76115</postal>
					<country>USA</country>
				</cntaddr>
				<cntvoice>(817) 509-3400</cntvoice>
				<cntfax>(817) 509-3469</cntfax>
				<hours>8:00 am to 4:30 pm, Central</hours>
			</cntinfo>
		</ptcontac>
		<browse>
			<browsen>unavailable</browsen>
			<browsed>unavailable</browsed>
			<browset>unavailable</browset>
		</browse>
		<native>Microsoft Windows 2000 Version 5.0 (Build 2195) Service Pack 3; ESRI ArcCatalog 8.1.1.649</native>
	</idinfo>
	<dataqual>
		<attracc>
			<attraccr>Image brightness values may deviate from brightness values of original imagery due to image value interpolation during scanning and rectification processes.  Radiometry is verified by USGS through a visual inspection of the digital quadrangle with the original unrectified image to determine if the digital orthophoto has the same or better quality as the original unrectified input image.  Radiometric differences can be detected adjacent DOQ files due primarily to differences in photography capture dates and sun angles of aerial along flight lines. These differences can be in an image's general lightness or darkness when compared to adjacent DOQ file coverages.</attraccr>
		</attracc>
		<logic>Not Applicable</logic>
		<complete>All DOQ image mosaics are visually inspected for completeness to ensure the area of interest is included.  Original images are almost entirely cloud free.  Source photography is leaf-off in deciduous vegetation regions.  Void areas having a radiometric value of zero and appearing black may exist.</complete>
		<posacc>
			<horizpa>
				<horizpar>The horizontal positional accuracy and the assurance of that accuracy depend, in part, on the accuracy of the data inputs to the rectification process. These inputs consist of the digital elevation model (DEM),aerotriangulation control and methods, the photo source camera calibration, scanner calibration, and aerial photographs that meet National Aerial Photography Program (NAPP) standards. The vertical accuracy of the verified USGS format DEM is equivalent to or better than a USGS level 1 or 2 DEM, with a root mean square error (RMSE) of no greater than 7.0 meters. Field control is acquired by third order class 1 or better survey methods sufficiently spaced to meet National Map Accuracy Staandards (NMAS) for 1:12,000-scale products. Aerial cameras have current certification from the USGS, National Mapping Division, Optical Science Laboratory. Test calibration scans are performed on all source photography scanners. Horizontal positional accuracy is determined by the Orthophoto Accuracy (ORACC) software program for DOQ data produced by the National Mapping Division. The program determines the accuracy by finding the line and sample coordinates of the passpoints in the DOQ and fitting these to their ground coordinates to develop a root mean square error (RMSE). From 4 to 9 points are checked. As a further accuracy test, the image line and sample coordinates of the DEM corners are transformed and compared with the actual X,Y DEM corner values to determine if they are within the RMSE. Additional information on this testing procedure can be found in U.S. Department of the Interior, U.S. Geological Survey, 1993, Technical Instructions, ORACC Users Manual (draft): Reston, VA. Adjacent DOQ's, when displayed together in a common planimetric coordinate system, may exhibit slight positional discrepancies across common DOQ boundaries. Linear features, such as streets, may not be continuous. Field investigations to validate DOQ positional accuracy reliabilty are periodically conducted by the USGS, National Mapping Division, Geometronics Standards Section. DOQ's produced by cooperators and contractors use similarly approved RMSE test procedures.</horizpar>
				<qhorizpa>
					<horizpav>7 meters</horizpav>
					<horizpae>U.S.Bureau of the Budget, 1947, United States National Map Accuracy Standard.</horizpae>
				</qhorizpa>
			</horizpa>
			<vertacc>
				<vertaccr>NA</vertaccr>
			</vertacc>
		</posacc>
		<lineage>
			<srcinfo>
				<srccite>
					<citeinfo>
						<origin>U.S. Geological Survey</origin>
						<pubdate>Unknown</pubdate>
						<pubtime>Unknown</pubtime>
						<title>DOQQ</title>
						<geoform>remote-sensing image</geoform>
						<pubinfo>
							<pubplace>Reston, VA</pubplace>
							<publish>U.S. Geological Survey</publish>
						</pubinfo>
					</citeinfo>
				</srccite>
				<srcscale>40,000</srcscale>
				<typesrc>CD-ROM</typesrc>
				<srctime>
					<timeinfo>
						<rngdates>
							<begdate>199604</begdate><enddate>199704</enddate></rngdates>
					</timeinfo>
					<srccurr>ground condition</srccurr>
				</srctime>
				<srccitea>DOQQ</srccitea>
				<srccontr>Panchromatic black and white (or color infra-red) NAPP or NAPP-like photographs. NAPP photographs are centered on the DOQ coverage area, the primary images making up the county mosaics.</srccontr>
			</srcinfo>
			<procstep>
				<procdesc>The production procedures, instrumentation, hardware and software used in the collection of standard USGS DOQ's vary depending on systems used at the contract, cooperator or USGS production sites. The majority of DOQ datasets are acquired through government contract. The process step describes, in general, the process used in the production of USGS DOQ data sets. The rectification process requires, as input, a user parameter file to the rectification process, a digital elevation model gridded to specified bounds, projection, zone, datum and X-Y units, a scanned image file covering the same area as the DEM, ground X-Y-Z point values and their conjugate photo coordinates in the camera coordinate system, and measurements of the fiducial in the digitized image.

The camera calibration report provides the length of the camera and the distances in millimeters from the optical center to the camera's 8 fiducial marks. These marks define the field of reference for spatial measurements made from the photograph. Ground control points acquired from ground surveys or developed in aerotriangulation, are third order class 1 or better, and meet National Map Accuracy Standard (NMAS) for 1:12,000-scale. Ground control points are in the Universal Transverse Mercator or the State Plane Coordinate System on NAD83. Horizontal and vertical residuals of aerotriangulated tie-points are equal to or less than 2.5 meters. Standard aerotriangulation passpoint configuration consists of 9 ground control points, one near each corner, one at the center near each side and 1 near the center of the photograph, are used. The conjugate positions of the ground control points on the photograph are measured and recorded in camera coordinates.

The raster image file is created by scanning an aerial photograph film diapositive with a precision image scanner. An aperture of approximately 25 to 32 microns is used, with an aperture no greater than 32 microns permitted. Using 1:40,000-scale photographs, a 25-micron scan aperture equates to a ground resolution of 1-meter. The scanner converts the photographic image densities to gray scale values ranging from 0 to 255 for black and white photographs. Scan files with ground resolution less than 1 meter or greater than 1 meter but less than 1.28 meters are resampled to 1 meter.  The principal elevation data source (DEM's) are standard datasets from the National Digital Cartographic Data Base (NDCDB). DEM's that meet USGS standards are also produced by contractors to fulfill DOQ production requirements and are subsequently archived in the NDCDB. All DEM data is equivalent to or better than USGS DEM standard level 1. The DEM used in the production of DOQ's generally has a 30-meter grid post spacing and possesses a vertical RMSE of 7-meters or less. A DEM covering the extent of the photograph is used for the rectification. The DEM is traversed from user-selected minimum to maximum X-Y values and the DEM X-Y-Z values are used to find pixel coordinates in the digitized photograph using transformations mentioned above. For each raster image cell subdivision, a brightness or gray-scale value is obtained using nearest neighbor, bilinear, or cubic convolution resampling of the scanned image. The pixel processing algorithm is indicated in the header file . An inverse transformation relates the image coordinates referenced to the fiducial coordinate space back to scanner coordinate space. For those areas for which a 7.5-minute DEM is unavailable and relief differences are less than 150 feet, a planar-DEM (slope-plane substitute grid) may be used.  Rectification Process: The photo control points and focal length are iteratively fitted to their conjugate ground control points using a single photo space resection equation. From this mathematical fit is obtained a rotation matrix of constants about the three axes of the camera. This rotation matrix can then be used to find the photograph or camera coordinates of any other ground X-Y-Z point. Next a two dimensional fit is made between the measured fiducial marks on the digitized photograph and their conjugate camera coordinates. Transformation constants are developed from the fit and the camera or photo coordinates are used in reverse to find their conjugate pixel coordiates on the digitized photograph.  Quality Control: All data is inspected according to a quality control plan. DOQ contractors must meet DOQ standards for attribute accuracy, logical consistency, data completeness and horizontal positional accuracy. During the initial production phase, all rectification inputs and DOQ data sets are inspected for conformance to standards.  After a production source demonstrates high quality, inspections  will be made to 10% of delivery lots (40 DOQs per lot). All DOQ's are visually inspected for gross positional  errors and tested for physical format standards.</procdesc>
				<srcused>NA</srcused>
				<procdate>Unknown</procdate>
				<srcprod>DOQQ</srcprod>
			</procstep>
			<procstep>
				<procdesc>Digital orthophotos from USGS are used to create a county mosaic.  All DOQQ's for the area of interest, typically a county, are processed using geo-referencing information from the input images to create a consolidated MrSID image.  The input image may be from raw DOQQ's or TIFF formats, depending on the process requirement needs.  The mosaic is compressed to a ratio of about 1:20 to save on storage requirements and to accelerate computer processing and display.  All DOQQ's must be in the same UTM zone for MrSID Version 1.3 or 1.4 software to create a mosaic.  In areas split by a UTM zone, DOQQ's in the lesser zone are reprojected to the dominant UTM zone using ERDAS Imagine or similar  software.  As appropriate, tone or range adjustments are made to minimize tone differences between individual DOQQ's and along mosaic seam lines.</procdesc>
				<srcused>DOQQ</srcused>
				<procdate>20030623</procdate>
				<srcprod>MrSID</srcprod>
			</procstep>
		</lineage>
	</dataqual>
	<spdoinfo>
		<direct>Raster</direct>
		<rastinfo>
			<rasttype>Pixel</rasttype>
			<rowcount>57633</rowcount>
			<colcount>65702</colcount>
			<vrtcount>1</vrtcount>
		</rastinfo>
	</spdoinfo>
	<spref>
		<horizsys>
			<planar>
				<gridsys>
					<gridsysn>Universal Transverse Mercator</gridsysn>
					<utm>
						<utmzone>17</utmzone>
						<transmer>
							<sfctrmer>0.999600</sfctrmer>
							<longcm>-81.000000</longcm>
							<latprjo>0.000000</latprjo>
							<feast>500000.000000</feast>
							<fnorth>0.000000</fnorth>
						</transmer>
					</utm>
				</gridsys>
				<planci>
					<plance>row and column</plance>
					<coordrep>
						<absres>1.000000</absres>
						<ordres>1.000000</ordres>
					</coordrep>
					<plandu>meters</plandu>
				</planci>
			</planar>
			<geodetic>
				<horizdn>North American Datum of 1983</horizdn>
				<ellips>Geodetic Reference System 80</ellips>
				<semiaxis>6378137.000000</semiaxis>
				<denflat>298.257222</denflat>
			</geodetic>
		</horizsys>
	</spref>
	<eainfo>
		<overview>
			<eaover>For DOQ's from panchromatic source each pixel contains an 8-bit gray-scale value between 0-255. A value of 0 represents the color black while a value of 255 represents the color white. All values between 0 and 255 are represented as a shade of gray varying from black to white. For color-infrared and natural color DOQs' a digital number from 0 to 255 will also be assigned to each pixel but that number will refer to a color look-up table which will contain the RGB red, blue and green RGB) values, each from 0 to 255, for that digital number. Areas where the rectification process is incomplete due to incomplete data (i.e., lack of elevation data, gaps), are represented with the numeric value of 0.</eaover>
			<eadetcit>U.S. Department of the Interior,  U.S. Geological Survey, 1992, Standards for digital orthophotos: Reston, VA.

Softcopy  in Adobe Acrobat Portable Document File (PDF) format:
http://rockyweb.cr.usgs.gov/nmpstds/doqstds.html</eadetcit>
		</overview>
	</eainfo>
	<distinfo>
		<distrib>
			<cntinfo>
				<cntorgp>
					<cntorg>U.S. Department of Agriculture, Natural Resources Conservation Service, National Cartography and Geospatial Center</cntorg>
					<cntper>Geospatial Data Branch</cntper>
				</cntorgp>
				<cntaddr>
					<addrtype>mailing and physical address</addrtype>
					<address>Federal Center, 501 W. Felix St., Bldg. 23, P.O. Box 6567</address>
					<city>Fort Worth</city>
					<state>Texas</state>
					<postal>76115</postal>
					<country>USA</country>
				</cntaddr>
				<cntvoice>(817) 509-3400</cntvoice>
				<cntfax>(817) 509-3469</cntfax>
				<hours>8:00 am to 4:30 pm, Central</hours>
			</cntinfo>
		</distrib>
		<resdesc>County Orthophoto Mosaic</resdesc>
		<distliab>Although these data have been processed successfully on a computer system at the U.S. Department of Agriculture, no warranty expressed or implied is made by the Agency regarding the utility of the data on any other system, nor shall the act of distribution constitute any such warranty.  Any use of trade, product, or firm names is for descriptive purposes only and does not imply endorsement by the U.S. Government.  The U.S. Department of Agriculture, nor any of its agencies are liable for misuse of the data, for damage, for transmission of viruses, or for computer contamination through the distribution of these data sets. The U.S. Department of Agriculture prohibits discrimination in its programs on the basis of race, color, national origin, sex, religion, age, disability, political beliefs, and marital or familial status. (Not all prohibited bases apply to all programs.)</distliab>
		<stdorder>
			<digform>
				<digtinfo>
					<formname>MrSID</formname>
					<filedec>compression applied</filedec>
					<transize>875.342</transize>
				</digtinfo>
				<digtopt>
					<onlinopt>
						<computer>
							<networka>
								<networkr>http://lighthouse.nrcs.usda.gov/gateway/gatewayhome.html.</networkr>
							</networka>
						</computer>
					</onlinopt>
					<offoptn>
						<offmedia>CD-ROM</offmedia>
						<reccap>
							<recden>650</recden>
							<recdenu>MB</recdenu>
						</reccap>
						<recfmt>ISO 9660, Level 2, Mode 1</recfmt>
					</offoptn>
				</digtopt>
			</digform>
			<fees>$50 per CD-ROM</fees>
		</stdorder>
		<availabl>
			<timeinfo>
				<rngdates>
					<begdate>199604</begdate><enddate>199704</enddate></rngdates>
			</timeinfo>
		</availabl>
	</distinfo>
	<metainfo>
		<metd>20030624</metd>
		<metc>
			<cntinfo>
				<cntorgp>
					<cntorg>U.S. Department of Agriculture, Natural Resources Conservation Service, National Cartography and Geospatial Center</cntorg>
					<cntper>Geospatial Data Branch</cntper>
				</cntorgp>
				<cntaddr>
					<addrtype>mailing and physical address</addrtype>
					<address>Federal Center, 501 W. Felix St., Bldg. 23, P.O. Box 6567</address>
					<city>Fort Worth</city>
					<state>Texas</state>
					<postal>76115</postal>
					<country>USA</country>
				</cntaddr>
				<cntvoice>(817) 509-3400</cntvoice>
				<cntfax>(817) 509-3469</cntfax>
				<hours>8:00 am to 4:30 pm, Central</hours>
			</cntinfo>
		</metc>
		<metstdn>FGDC Content Standards for Digital Geospatial Metadata</metstdn>
		<metstdv>FGDC-STD-001-1998</metstdv>
		<mettc>local time</mettc>
		<metextns>
			<onlink>http://www.esri.com/metadata/esriprof80.html</onlink>
			<metprof>ESRI Metadata Profile</metprof>
		</metextns>
	</metainfo>
	<Esri><ModDate>20030624</ModDate><ModTime>07465900</ModTime></Esri></metadata>
